BEGIN:VCALENDAR
VERSION:2.0
CALSCALE:GREGORIAN
PRODID:-//Diputació de Barcelona//DibaCMS//EN
BEGIN:VEVENT
UID:4826
DTSTAMP:20260422T230932
DTSTART:20120229T000000
DTEND:20130220T000000
SUMMARY:La Concòrdia A derrota el Riudellots per 2 a 3 i consolida el seu liderat
LOCATION:
METHOD:PUBLISH
X-WR-CALNAME:llagosta@llagosta.cat
X-WR-TIMEZONE:Europe/Madrid
DESCRIPTION:El primer equip del Club Deportivo La Concòrdia va guanyar el cap de setmana passat per 2 a 3 a la pista del Riudellots. Les de la Llagosta van donar un cop d'efecte en derrotar un rival directe en la lluita pel títol de lliga.
URI:https://www.llagosta.cat/actualitat/noticies/la-concordia-a-derrota-el-riudellots-per-2-a-3-i-consolida-el-seu-liderat.html
CLASS:PUBLIC
END:VEVENT
END:VCALENDAR
