BEGIN:VCALENDAR
VERSION:2.0
CALSCALE:GREGORIAN
PRODID:-//Diputació de Barcelona//DibaCMS//EN
BEGIN:VEVENT
UID:4825
DTSTAMP:20260422T154155
DTSTART:20120228T000000
DTEND:20130228T000000
SUMMARY:Un únic positiu en una campanya de control d'alcoholèmia a la Llagosta
LOCATION:
METHOD:PUBLISH
X-WR-CALNAME:llagosta@llagosta.cat
X-WR-TIMEZONE:Europe/Madrid
DESCRIPTION:La primera campanya de l'any de control d'alcoholèmia promoguda pel Servei Català de Trànsit i realitzada per la Policia Local de la Llagosta es va saldar amb un únic positiu de les 86 proves realitzades. La campanya es va efectuar del 13 al 19 de febrer.
URI:https://www.llagosta.cat/actualitat/noticies/un-unic-positiu-en-una-campanya-de-control-dalcoholemia-a-la-llagosta.html
CLASS:PUBLIC
END:VEVENT
END:VCALENDAR
