BEGIN:VCALENDAR
VERSION:2.0
CALSCALE:GREGORIAN
PRODID:-//Diputació de Barcelona//DibaCMS//EN
BEGIN:VEVENT
UID:4824
DTSTAMP:20260421T234330
DTSTART:20120228T000000
DTEND:20130228T000000
SUMMARY:L'Ajuntament participa en un projecte d'internacionalització d'empreses
LOCATION:
METHOD:PUBLISH
X-WR-CALNAME:llagosta@llagosta.cat
X-WR-TIMEZONE:Europe/Madrid
DESCRIPTION:L'Ajuntament de la Llagosta, en coordinació amb altres consistoris del nostre entorn, està treballant en la posada en marxa d'un projecte d'internacionalització d'empreses. Aquesta iniciativa vol promoure l'exportació en empreses a partir de deu treballadors.
URI:https://www.llagosta.cat/actualitat/noticies/lajuntament-participa-en-un-projecte-dinternacionalitzacio-dempreses.html
CLASS:PUBLIC
END:VEVENT
END:VCALENDAR
