BEGIN:VCALENDAR
VERSION:2.0
CALSCALE:GREGORIAN
PRODID:-//Diputació de Barcelona//DibaCMS//EN
BEGIN:VEVENT
UID:4823
DTSTAMP:20260422T232756
DTSTART:20120228T000000
DTEND:20130228T000000
SUMMARY:Iván Buendía, del Gimnàs La Llagosta, subcampió de Catalunya sub-20 de judo
LOCATION:
METHOD:PUBLISH
X-WR-CALNAME:llagosta@llagosta.cat
X-WR-TIMEZONE:Europe/Madrid
DESCRIPTION:El judoka del Gimnàs La Llagosta Iván Buendía es va proclamar dissabte subcampió de Catalunya sub-20 en menys de 73 quilos. En el seu segon any a la categoria, Buendía va millorar la tercera posició aconseguida la temporada passada. 
URI:https://www.llagosta.cat/actualitat/noticies/ivan-buendia-del-gimnas-la-llagosta-subcampio-de-catalunya-sub-20-de-judo.html
CLASS:PUBLIC
END:VEVENT
END:VCALENDAR
