BEGIN:VCALENDAR
VERSION:2.0
CALSCALE:GREGORIAN
PRODID:-//Diputació de Barcelona//DibaCMS//EN
BEGIN:VEVENT
UID:4822
DTSTAMP:20260422T225504
DTSTART:20120228T000000
DTEND:20130228T000000
SUMMARY:El Fútbol Sala Unión Llagostense guanya i se situa en cinquena posició
LOCATION:
METHOD:PUBLISH
X-WR-CALNAME:llagosta@llagosta.cat
X-WR-TIMEZONE:Europe/Madrid
DESCRIPTION:El Fútbol Sala Unión Llagostense va guanyar la jornada passada el Barcelona Snowflakes per 11 a 3. Els visitants es van avançar amb un gol en pròpia porta, però els de José Manuel Poyato van reaccionar i, al descans, guanyaven per 4 a 1. 
URI:https://www.llagosta.cat/actualitat/noticies/el-futbol-sala-union-llagostense-guanya-i-se-situa-en-cinquena-posicio.html
CLASS:PUBLIC
END:VEVENT
END:VCALENDAR
