BEGIN:VCALENDAR
VERSION:2.0
CALSCALE:GREGORIAN
PRODID:-//Diputació de Barcelona//DibaCMS//EN
BEGIN:VEVENT
UID:4821
DTSTAMP:20260422T105825
DTSTART:20120227T000000
DTEND:20130227T000000
SUMMARY:Demanada una reunió amb el Ministeri de Foment sobre l'estació de mercaderies
LOCATION:
METHOD:PUBLISH
X-WR-CALNAME:llagosta@llagosta.cat
X-WR-TIMEZONE:Europe/Madrid
DESCRIPTION:L'Ajuntament de la Llagosta ha sol·licitat una reunió amb la ministra de Foment, Ana Pastor, per parlar sobre la futura estació intermodal de mercaderies ferroviàries de la nostra localitat. Aquesta trobada busca la implicació del Govern Central en l'impuls d'aquesta infraestructura.
URI:https://www.llagosta.cat/actualitat/noticies/demanada-una-reunio-amb-el-ministeri-de-foment-sobre-lestacio-de-mercaderies.html
CLASS:PUBLIC
END:VEVENT
END:VCALENDAR
