BEGIN:VCALENDAR
VERSION:2.0
CALSCALE:GREGORIAN
PRODID:-//Diputació de Barcelona//DibaCMS//EN
BEGIN:VEVENT
UID:4820
DTSTAMP:20260422T052338
DTSTART:20120227T000000
DTEND:20130227T000000
SUMMARY:Aquesta setmana, controls de velocitat de la Policia Local a l'avinguda del Turó
LOCATION:
METHOD:PUBLISH
X-WR-CALNAME:llagosta@llagosta.cat
X-WR-TIMEZONE:Europe/Madrid
DESCRIPTION:La Policia Local de la Llagosta realitzarà al llarg d'aquesta setmana diferents controls preventius de velocitat a l'avinguda del Turó, concretament entre les cruïlles dels carrers de Sant Pau i Sant Bonaventura. 
URI:https://www.llagosta.cat/actualitat/noticies/aquesta-setmana-controls-de-velocitat-de-la-policia-local-a-lavinguda-del-turo.html
CLASS:PUBLIC
END:VEVENT
END:VCALENDAR
