BEGIN:VCALENDAR
VERSION:2.0
CALSCALE:GREGORIAN
PRODID:-//Diputació de Barcelona//DibaCMS//EN
BEGIN:VEVENT
UID:4819
DTSTAMP:20260422T051713
DTSTART:20120227T000000
DTEND:20130227T000000
SUMMARY:El Viejas Glorias empata a casa (1-1) contra el penúltim, el Joan XXIII
LOCATION:
METHOD:PUBLISH
X-WR-CALNAME:llagosta@llagosta.cat
X-WR-TIMEZONE:Europe/Madrid
DESCRIPTION:El Club Deportivo Viejas Glorias va empatar dissabte a un gol a casa contra el Joan XXIII. Els de la nostra localitat no van poder derrotar el penúltim classificat. 
El Viejas Glorias va recuperar jugadors per a aquest partit, però la primera part va ser de domini visitant. 
URI:https://www.llagosta.cat/actualitat/noticies/el-viejas-glorias-empata-a-casa-1-1-contra-el-penultim-el-joan-xxiii.html
CLASS:PUBLIC
END:VEVENT
END:VCALENDAR
