BEGIN:VCALENDAR
VERSION:2.0
CALSCALE:GREGORIAN
PRODID:-//Diputació de Barcelona//DibaCMS//EN
BEGIN:VEVENT
UID:4818
DTSTAMP:20260422T140056
DTSTART:20120224T000000
DTEND:20130224T000000
SUMMARY:Diferències entre CiU i els seus socis de govern, per una moció al ple del mes de febrer
LOCATION:
METHOD:PUBLISH
X-WR-CALNAME:llagosta@llagosta.cat
X-WR-TIMEZONE:Europe/Madrid
DESCRIPTION:La darrera moció aprovada al ple ordinari del mes de febrer celebrat ahir, referent al Dia Internacional de les Dones, va causar les primeres diferències entre els socis de l'equip de govern municipal fins al punt que el president de Convergència a la Llagosta, Zacaries Egea, va prendre la paraula i va dir que la seva formació podria deixar de formar part del govern local. 
URI:https://www.llagosta.cat/actualitat/noticies/diferencies-entre-ciu-i-els-seus-socis-de-govern-per-una-mocio-al-ple-del-mes-de-febrer.html
CLASS:PUBLIC
END:VEVENT
END:VCALENDAR
