BEGIN:VCALENDAR
VERSION:2.0
CALSCALE:GREGORIAN
PRODID:-//Diputació de Barcelona//DibaCMS//EN
BEGIN:VEVENT
UID:4817
DTSTAMP:20260423T035344
DTSTART:20120224T000000
DTEND:20130224T000000
SUMMARY:L'alcalde ha participat aquest matí en una tertúlia amb estudiants de l'Institut Marina
LOCATION:
METHOD:PUBLISH
X-WR-CALNAME:llagosta@llagosta.cat
X-WR-TIMEZONE:Europe/Madrid
DESCRIPTION:L'alcalde de la Llagosta, Alberto López, ha participat aquest matí en una tertúlia amb alumnes de primer de Batxillerat de l'Institut Marina. L'activitat s'ha desenvolupat a la sala Àgora d'aquest centre educatiu.
URI:https://www.llagosta.cat/actualitat/noticies/lalcalde-ha-participat-aquest-mati-en-una-tertulia-amb-estudiants-de-linstitut-marina.html
CLASS:PUBLIC
END:VEVENT
END:VCALENDAR
