BEGIN:VCALENDAR
VERSION:2.0
CALSCALE:GREGORIAN
PRODID:-//Diputació de Barcelona//DibaCMS//EN
BEGIN:VEVENT
UID:4816
DTSTAMP:20260421T221817
DTSTART:20120224T000000
DTEND:20130224T000000
SUMMARY:El primer equip de la Concòrdia, que és el líder, visita la pista del segon, el Riudellots
LOCATION:
METHOD:PUBLISH
X-WR-CALNAME:llagosta@llagosta.cat
X-WR-TIMEZONE:Europe/Madrid
DESCRIPTION:Els dos equips de futbol sala femení del Club Deportivo La Concòrdia tornen a la competició després del descans del cap de setmana passat. La Concòrdia A, que és el líder del grup 1 de la Primera Divisió amb 36 punts, es desplaçarà a la pista del segon classificat, el Riudellots, que té 28 punts. 
URI:https://www.llagosta.cat/actualitat/noticies/el-primer-equip-de-la-concordia-que-es-el-lider-visita-la-pista-del-segon-el-riudellots.html
CLASS:PUBLIC
END:VEVENT
END:VCALENDAR
