BEGIN:VCALENDAR
VERSION:2.0
CALSCALE:GREGORIAN
PRODID:-//Diputació de Barcelona//DibaCMS//EN
BEGIN:VEVENT
UID:4815
DTSTAMP:20260422T033048
DTSTART:20120224T000000
DTEND:20130224T000000
SUMMARY:El Centre Cultural acollirà demà una festa de Carnaval de La Llagosta Club de Ball
LOCATION:
METHOD:PUBLISH
X-WR-CALNAME:llagosta@llagosta.cat
X-WR-TIMEZONE:Europe/Madrid
DESCRIPTION:La Llagosta Club de Ball celebrarà demà una festa de Carnaval, introduint una novetat, el ball amb karaoke. L'activitat es farà a partir de dos quarts de deu del vespre al Centre Cultural.
URI:https://www.llagosta.cat/actualitat/noticies/el-centre-cultural-acollira-dema-una-festa-de-carnaval-de-la-llagosta-club-de-ball.html
CLASS:PUBLIC
END:VEVENT
END:VCALENDAR
