BEGIN:VCALENDAR
VERSION:2.0
CALSCALE:GREGORIAN
PRODID:-//Diputació de Barcelona//DibaCMS//EN
BEGIN:VEVENT
UID:4814
DTSTAMP:20260422T235908
DTSTART:20120223T000000
DTEND:20130223T000000
SUMMARY:Un grup de veïns denuncien que no tenen llum als ascensors des de l'11 de febrer
LOCATION:
METHOD:PUBLISH
X-WR-CALNAME:llagosta@llagosta.cat
X-WR-TIMEZONE:Europe/Madrid
DESCRIPTION:La comunitat de veïns dels números 39-41 de l'avinguda de l'Onze de setembre i del número 2 del carrer de Sant Pau està amb problemes de subministrament elèctric des de l'11 de febrer. Aquesta incidència afecta sobretot als ascensors, provocant que algunes persones no puguin sortir al carrer des de fa dies.
URI:https://www.llagosta.cat/actualitat/noticies/un-grup-de-veins-denuncien-que-no-tenen-llum-als-ascensors-des-de-l11-de-febrer.html
CLASS:PUBLIC
END:VEVENT
END:VCALENDAR
