BEGIN:VCALENDAR
VERSION:2.0
CALSCALE:GREGORIAN
PRODID:-//Diputació de Barcelona//DibaCMS//EN
BEGIN:VEVENT
UID:4813
DTSTAMP:20260422T012917
DTSTART:20120223T000000
DTEND:20130223T000000
SUMMARY:L'alcalde respondrà demà les preguntes d'alumnes de Batxillerat de l'Institut Marina
LOCATION:
METHOD:PUBLISH
X-WR-CALNAME:llagosta@llagosta.cat
X-WR-TIMEZONE:Europe/Madrid
DESCRIPTION:L'alcalde de la Llagosta, Alberto López, anirà demà a l'Institut Marina, on participarà en una tertúlia amb alumnes de primer de Batxillerat. La trobada tindrà lloc entre les nou i les onze del matí i es podrà seguir el seu desenvolupament a través de la pàgina de Facebook de l'Institut Marina.
URI:https://www.llagosta.cat/actualitat/noticies/lalcalde-respondra-dema-les-preguntes-dalumnes-de-batxillerat-de-linstitut-marina.html
CLASS:PUBLIC
END:VEVENT
END:VCALENDAR
