BEGIN:VCALENDAR
VERSION:2.0
CALSCALE:GREGORIAN
PRODID:-//Diputació de Barcelona//DibaCMS//EN
BEGIN:VEVENT
UID:4812
DTSTAMP:20260423T182718
DTSTART:20120223T000000
DTEND:20130223T000000
SUMMARY:L'Ajuntament de la Llagosta celebra aquesta tarda el ple ordinari del mes de febrer
LOCATION:
METHOD:PUBLISH
X-WR-CALNAME:llagosta@llagosta.cat
X-WR-TIMEZONE:Europe/Madrid
DESCRIPTION:L'aprovació inicial del plec de clàusules per adjudicar el servei de recollida de la fracció de rebuig d'escombraries i la neteja viària del nostre municipi serà el principal punt de l'ordre del dia del ple que celebrarà aquesta tarda l'Ajuntament de la Llagosta.
URI:https://www.llagosta.cat/actualitat/noticies/lajuntament-de-la-llagosta-celebra-aquesta-tarda-el-ple-ordinari-del-mes-de-febrer.html
CLASS:PUBLIC
END:VEVENT
END:VCALENDAR
