BEGIN:VCALENDAR
VERSION:2.0
CALSCALE:GREGORIAN
PRODID:-//Diputació de Barcelona//DibaCMS//EN
BEGIN:VEVENT
UID:4811
DTSTAMP:20260421T221451
DTSTART:20120223T000000
DTEND:20130223T000000
SUMMARY:El sènior del Vallag guanya a la pista del cuer en el penúltim partit de la primera fase
LOCATION:
METHOD:PUBLISH
X-WR-CALNAME:llagosta@llagosta.cat
X-WR-TIMEZONE:Europe/Madrid
DESCRIPTION:L'Handbol Club Vallag va guanyar per la mínima la jornada passada a la pista del Sant Andreu de la Barca, el cuer de la competició. El partit va acabar amb el resultat de 25 a 26.
URI:https://www.llagosta.cat/actualitat/noticies/el-senior-del-vallag-guanya-a-la-pista-del-cuer-en-el-penultim-partit-de-la-primera-fase.html
CLASS:PUBLIC
END:VEVENT
END:VCALENDAR
