BEGIN:VCALENDAR
VERSION:2.0
CALSCALE:GREGORIAN
PRODID:-//Diputació de Barcelona//DibaCMS//EN
BEGIN:VEVENT
UID:4810
DTSTAMP:20260422T051805
DTSTART:20120223T000000
DTEND:20130223T000000
SUMMARY:La majoria del servei de planificació familiar es quedarà a l'ambulatori de la Llagosta
LOCATION:
METHOD:PUBLISH
X-WR-CALNAME:llagosta@llagosta.cat
X-WR-TIMEZONE:Europe/Madrid
DESCRIPTION:El Centre d'Assistència Primària (CAP) de la Llagosta mantindrà la majoria del servei de planificació familiar que ofereix actualment, segons es desprèn d'una reunió que han mantingut l'alcalde, Alberto López, i la regidora de Salut, Mireia Egea, amb representants del Departament de Salut de la Generalitat. 
URI:https://www.llagosta.cat/actualitat/noticies/la-majoria-del-servei-de-planificacio-familiar-es-quedara-a-lambulatori-de-la-llagosta.html
CLASS:PUBLIC
END:VEVENT
END:VCALENDAR
