BEGIN:VCALENDAR
VERSION:2.0
CALSCALE:GREGORIAN
PRODID:-//Diputació de Barcelona//DibaCMS//EN
BEGIN:VEVENT
UID:4808
DTSTAMP:20260422T013812
DTSTART:20120222T000000
DTEND:20130222T000000
SUMMARY:Ja està confeccionada la programació del Dia Internacional de les dones a la Llagosta
LOCATION:
METHOD:PUBLISH
X-WR-CALNAME:llagosta@llagosta.cat
X-WR-TIMEZONE:Europe/Madrid
DESCRIPTION:L'Ajuntament de la Llagosta ja té enllestida la programació commemorativa del Dia Internacional de les Dones. La major part de les activitats es desenvoluparan durant tot el mes de març i compten amb la col·laboració de diverses entitats de la nostra localitat.
URI:https://www.llagosta.cat/actualitat/noticies/ja-esta-confeccionada-la-programacio-del-dia-internacional-de-les-dones-a-la-llagosta.html
CLASS:PUBLIC
END:VEVENT
END:VCALENDAR
