BEGIN:VCALENDAR
VERSION:2.0
CALSCALE:GREGORIAN
PRODID:-//Diputació de Barcelona//DibaCMS//EN
BEGIN:VEVENT
UID:4807
DTSTAMP:20260421T140528
DTSTART:20120222T000000
DTEND:20130222T000000
SUMMARY:Editat un tríptic sobre mots que fan servir les colles de diables del Vallès Oriental
LOCATION:
METHOD:PUBLISH
X-WR-CALNAME:llagosta@llagosta.cat
X-WR-TIMEZONE:Europe/Madrid
DESCRIPTION:El Consorci per a la normalització lingüística del Vallès Oriental ha editat un tríptic amb un recull de lèxic sobre diables. En aquesta iniciativa, l'entitat ha comptat amb la col·laboració de diversos grups de diables de la nostra comarca, entre ells les Llagostes de l'Avern de la nostra localitat. L'edició d'aquest tríptic s'emmarca en el programa Voluntariat per la Llengua amb les entitats per tal de promoure el coneixement i l'ús social del català. Així, s'ha volgut apropar el món dels diables a la població en general mitjançant el vocabulari propi del seu àmbit. 
URI:https://www.llagosta.cat/actualitat/noticies/editat-un-triptic-sobre-mots-que-fan-servir-les-colles-de-diables-del-valles-oriental.html
CLASS:PUBLIC
END:VEVENT
END:VCALENDAR
