BEGIN:VCALENDAR
VERSION:2.0
CALSCALE:GREGORIAN
PRODID:-//Diputació de Barcelona//DibaCMS//EN
BEGIN:VEVENT
UID:4806
DTSTAMP:20260421T173517
DTSTART:20120222T000000
DTEND:20130222T000000
SUMMARY:El Club Deportivo Viejas Glorias jugarà dissabte a casa contra el Joan XXIII
LOCATION:
METHOD:PUBLISH
X-WR-CALNAME:llagosta@llagosta.cat
X-WR-TIMEZONE:Europe/Madrid
DESCRIPTION:El Club Deportivo Viejas Glorias rebrà dissabte la visita del Joan XXIII després del descans del cap de setmana passat. Els llagostencs esperen recuperar jugadors per sumar un triomf contra un equip que ocupa la penúltima posició amb només 12 punts.
URI:https://www.llagosta.cat/actualitat/noticies/el-club-deportivo-viejas-glorias-jugara-dissabte-a-casa-contra-el-joan-xxiii.html
CLASS:PUBLIC
END:VEVENT
END:VCALENDAR
