BEGIN:VCALENDAR
VERSION:2.0
CALSCALE:GREGORIAN
PRODID:-//Diputació de Barcelona//DibaCMS//EN
BEGIN:VEVENT
UID:4805
DTSTAMP:20260423T224229
DTSTART:20120221T000000
DTEND:20130221T000000
SUMMARY:L'Ajuntament aprovarà les bases per adjudicar el servei d'escombraries i de neteja viària
LOCATION:
METHOD:PUBLISH
X-WR-CALNAME:llagosta@llagosta.cat
X-WR-TIMEZONE:Europe/Madrid
DESCRIPTION:L'Ajuntament de la Llagosta aprovarà dijous, durant el ple ordinari del mes de febrer, les bases per adjudicar el servei de recollida d'escombraries i la neteja viària. El plec de clàusules inclou la gestió de la recollida i el transport de la fracció de rebuig i la neteja dels carrers del nostre municipi.
URI:https://www.llagosta.cat/actualitat/noticies/lajuntament-aprovara-les-bases-per-adjudicar-el-servei-descombraries-i-de-neteja-viaria.html
CLASS:PUBLIC
END:VEVENT
END:VCALENDAR
