BEGIN:VCALENDAR
VERSION:2.0
CALSCALE:GREGORIAN
PRODID:-//Diputació de Barcelona//DibaCMS//EN
BEGIN:VEVENT
UID:4804
DTSTAMP:20260421T130419
DTSTART:20120221T000000
DTEND:20130212T000000
SUMMARY:La passejada per a la gent gran tindrà lloc demà a la població de Montgat
LOCATION:
METHOD:PUBLISH
X-WR-CALNAME:llagosta@llagosta.cat
X-WR-TIMEZONE:Europe/Madrid
DESCRIPTION:Un grup de veïns de la Llagosta participaran demà en la segona de les passejades per a la gent gran, Esport per a tothom, d'aquesta temporada. La sortida tindrà lloc en aquesta ocasió per Montgat. L'activitat forma part del cicle organitzat per la Diputació de Barcelona i diversos ajuntaments, entre ells el de la Llagosta. 
URI:https://www.llagosta.cat/actualitat/noticies/la-passejada-per-a-la-gent-gran-tindra-lloc-dema-a-la-poblacio-de-montgat.html
CLASS:PUBLIC
END:VEVENT
END:VCALENDAR
