BEGIN:VCALENDAR
VERSION:2.0
CALSCALE:GREGORIAN
PRODID:-//Diputació de Barcelona//DibaCMS//EN
BEGIN:VEVENT
UID:4803
DTSTAMP:20260422T033020
DTSTART:20120221T000000
DTEND:20130221T000000
SUMMARY:El FS Unión Llagostense perd 2 a 3 contra la Garriga i es manté en sisena posició
LOCATION:
METHOD:PUBLISH
X-WR-CALNAME:llagosta@llagosta.cat
X-WR-TIMEZONE:Europe/Madrid
DESCRIPTION:El Fútbol Sala Unión Llagostense va perdre el cap de setmana passat a casa contra la Garriga, que és el tercer classificat, per 2 a 3. Els llagostencs van perdonar massa en atac i ho van pagar amb una derrota.
URI:https://www.llagosta.cat/actualitat/noticies/el-fs-union-llagostense-perd-2-a-3-contra-la-garriga-i-es-mante-en-sisena-posicio.html
CLASS:PUBLIC
END:VEVENT
END:VCALENDAR
