BEGIN:VCALENDAR
VERSION:2.0
CALSCALE:GREGORIAN
PRODID:-//Diputació de Barcelona//DibaCMS//EN
BEGIN:VEVENT
UID:4802
DTSTAMP:20260421T190733
DTSTART:20120221T000000
DTEND:20130221T000000
SUMMARY:Demà, jornada de portes obertes a l'Escola Sagrada Familía i dijous, al col·legi les Planes 
LOCATION:
METHOD:PUBLISH
X-WR-CALNAME:llagosta@llagosta.cat
X-WR-TIMEZONE:Europe/Madrid
DESCRIPTION:L'Escola Sagrada Família farà demà jornada de portes obertes prèvia a les preinscripcions escolars del curs 2012-2013. Els pares podran visitar el centre a les 12 i a les 15.10 hores. 
URI:https://www.llagosta.cat/actualitat/noticies/dema-jornada-de-portes-obertes-a-lescola-sagrada-familia-i-dijous-al-collegi-les-planes-.html
CLASS:PUBLIC
END:VEVENT
END:VCALENDAR
