BEGIN:VCALENDAR
VERSION:2.0
CALSCALE:GREGORIAN
PRODID:-//Diputació de Barcelona//DibaCMS//EN
BEGIN:VEVENT
UID:4801
DTSTAMP:20260421T185339
DTSTART:20120220T000000
DTEND:20130220T000000
SUMMARY:El Carnaval Infantil es va celebrar divendres amb una cercavila i una festa
LOCATION:
METHOD:PUBLISH
X-WR-CALNAME:llagosta@llagosta.cat
X-WR-TIMEZONE:Europe/Madrid
DESCRIPTION:Un bon nombre de nens van participar la tarda de divendres en el Carnaval Infantil, organitzat pel Col·lectiu d'AMPA de la Llagosta i l'Ajuntament. Els infants disfressats es van concentrar a la plaça d'Antoni Baqué, des d'on van iniciar una cercavila, amenitzada per la Colla Gegantera i la Xaranga Los 60. El Complex Esportiu Municipal El Turó va acollir després una festa.
URI:https://www.llagosta.cat/actualitat/noticies/el-carnaval-infantil-es-va-celebrar-divendres-amb-una-cercavila-i-una-festa.html
CLASS:PUBLIC
END:VEVENT
END:VCALENDAR
