BEGIN:VCALENDAR
VERSION:2.0
CALSCALE:GREGORIAN
PRODID:-//Diputació de Barcelona//DibaCMS//EN
BEGIN:VEVENT
UID:4800
DTSTAMP:20260421T220939
DTSTART:20120220T000000
DTEND:20130220T000000
SUMMARY:Gran participació en la festa de Carnaval de dissabte a la Llagosta
LOCATION:
METHOD:PUBLISH
X-WR-CALNAME:llagosta@llagosta.cat
X-WR-TIMEZONE:Europe/Madrid
DESCRIPTION:La banda marciana, en comparses, i Tributo al tren de vapor, en individuals, van ser els guanyadors del Concurs de disfresses de Carnestoltes que va organitzar dissabte l'Ajuntament de la Llagosta. Un total de 560 persones van participar en aquesta activitat. La locomotora vaquera va obtenir el segon premi en comparses i Grease, el tercer. En individuals, el segon classificat va ser Un paseo por las nubes i el tercer, El señor de la naturaleza. En total, es van repartir deu premis per a comparses d'entre 250 i 40 euros i altres deu per a individuals d'entre 150 i 20 euros.
URI:https://www.llagosta.cat/actualitat/noticies/gran-participacio-en-la-festa-de-carnaval-de-dissabte-a-la-llagosta.html
CLASS:PUBLIC
END:VEVENT
END:VCALENDAR
