BEGIN:VCALENDAR
VERSION:2.0
CALSCALE:GREGORIAN
PRODID:-//Diputació de Barcelona//DibaCMS//EN
BEGIN:VEVENT
UID:4799
DTSTAMP:20260423T073043
DTSTART:20120220T000000
DTEND:20130220T000000
SUMMARY:Instal·lades cinc minideixalleries en diversos punts de la nostra localitat
LOCATION:
METHOD:PUBLISH
X-WR-CALNAME:llagosta@llagosta.cat
X-WR-TIMEZONE:Europe/Madrid
DESCRIPTION:L'Ajuntament de la Llagosta ha instal·lat ja les minideixalleries en cinc punts del nucli urbà. Aquests contenidors permeten recollir, de forma selectiva per al seu posterior reciclatge, piles, discs compactes, DVD, bateries de mòbils, petits aparells electrònics, carregadors de bateries, cartutxos d'impressora i bombetes.
URI:https://www.llagosta.cat/actualitat/noticies/installades-cinc-minideixalleries-en-diversos-punts-de-la-nostra-localitat.html
CLASS:PUBLIC
END:VEVENT
END:VCALENDAR
