BEGIN:VCALENDAR
VERSION:2.0
CALSCALE:GREGORIAN
PRODID:-//Diputació de Barcelona//DibaCMS//EN
BEGIN:VEVENT
UID:4798
DTSTAMP:20260422T015138
DTSTART:20120220T000000
DTEND:20130220T000000
SUMMARY:L'alcalde es reunirà amb la Generalitat per conèixer el futur del servei de ginecologia del CAP
LOCATION:
METHOD:PUBLISH
X-WR-CALNAME:llagosta@llagosta.cat
X-WR-TIMEZONE:Europe/Madrid
DESCRIPTION:L'alcalde de la Llagosta, Alberto López, ha demanat una reunió urgent amb els responsables territorials del Departament de Salut de la Generalitat per aclarir el futur del servei de ginecologia que s'ofereix al centre d'assistència primària de la nostra localitat. López ha parlat també amb el delegat del Govern, Salvador Jorba, per expressar-li la seva indignació pel fet d'assabentar-se per la premsa del possible trasllat del servei al CAP de Plana Lledó de Mollet del Vallès.
URI:https://www.llagosta.cat/actualitat/noticies/lalcalde-es-reunira-amb-la-generalitat-per-coneixer-el-futur-del-servei-de-ginecologia-del-cap.html
CLASS:PUBLIC
END:VEVENT
END:VCALENDAR
