BEGIN:VCALENDAR
VERSION:2.0
CALSCALE:GREGORIAN
PRODID:-//Diputació de Barcelona//DibaCMS//EN
BEGIN:VEVENT
UID:4797
DTSTAMP:20260421T125223
DTSTART:20120220T000000
DTEND:20130220T000000
SUMMARY:L'equip sènior masculí A de l'EBC cau a casa contra el Santa Perpètua (71-84)
LOCATION:
METHOD:PUBLISH
X-WR-CALNAME:llagosta@llagosta.cat
X-WR-TIMEZONE:Europe/Madrid
DESCRIPTION:El sènior masculí A de l'Esportiu Bàsquet Club de la Llagosta va perdre ahir a casa contra el Santa Perpètua per 71 a 84. El partit enfrontava dos equips que lluiten per la permanència. D'aquí, la importància d'aconseguir la victòria. 
URI:https://www.llagosta.cat/actualitat/noticies/lequip-senior-masculi-a-de-lebc-cau-a-casa-contra-el-santa-perpetua-71-84.html
CLASS:PUBLIC
END:VEVENT
END:VCALENDAR
