BEGIN:VCALENDAR
VERSION:2.0
CALSCALE:GREGORIAN
PRODID:-//Diputació de Barcelona//DibaCMS//EN
BEGIN:VEVENT
UID:4796
DTSTAMP:20260423T112653
DTSTART:20120217T000000
DTEND:20130217T000000
SUMMARY:Inscripcions obertes per participar el Fòrum Jove del 3 de març al Centre Cultural
LOCATION:
METHOD:PUBLISH
X-WR-CALNAME:llagosta@llagosta.cat
X-WR-TIMEZONE:Europe/Madrid
DESCRIPTION:L'Ajuntament de la Llagosta manté obertes les inscripcions per participar al Fòrum Jove que se celebrarà el 3 de març al Centre Cultural. Aquest acte forma part del procés de diagnosi de nou Pla local de Joventut.
URI:https://www.llagosta.cat/actualitat/noticies/inscripcions-obertes-per-participar-el-forum-jove-del-3-de-marc-al-centre-cultural.html
CLASS:PUBLIC
END:VEVENT
END:VCALENDAR
