BEGIN:VCALENDAR
VERSION:2.0
CALSCALE:GREGORIAN
PRODID:-//Diputació de Barcelona//DibaCMS//EN
BEGIN:VEVENT
UID:4795
DTSTAMP:20260422T022143
DTSTART:20120217T000000
DTEND:20130217T000000
SUMMARY:L'equip sènior del Vallag juga a Sant Andreu de la Barca després de sumar un nou triomf
LOCATION:
METHOD:PUBLISH
X-WR-CALNAME:llagosta@llagosta.cat
X-WR-TIMEZONE:Europe/Madrid
DESCRIPTION:El sènior de l'Handbol Club Vallag jugarà demà a la pista del Sant Andreu de la Barca. Els de la nostra localitat continuen sumant victòries després de guanyar el cap de setmana passat el Sant Just per 36 a 15.
URI:https://www.llagosta.cat/actualitat/noticies/lequip-senior-del-vallag-juga-a-sant-andreu-de-la-barca-despres-de-sumar-un-nou-triomf.html
CLASS:PUBLIC
END:VEVENT
END:VCALENDAR
