BEGIN:VCALENDAR
VERSION:2.0
CALSCALE:GREGORIAN
PRODID:-//Diputació de Barcelona//DibaCMS//EN
BEGIN:VEVENT
UID:4794
DTSTAMP:20260421T234151
DTSTART:20120217T000000
DTEND:20130217T000000
SUMMARY:La Llagosta celebrarà demà el Carnaval amb una festa al Complex Esportiu El Turó  
LOCATION:
METHOD:PUBLISH
X-WR-CALNAME:llagosta@llagosta.cat
X-WR-TIMEZONE:Europe/Madrid
DESCRIPTION:Un total de 560 persones participaran demà al concurs de disfresses de Carnestoltes organitzat per l'Ajuntament de la Llagosta. La principal novetat d'aquest any és el canvi d'escenari del ball de Carnaval, que es farà a la pista del Complex Esportiu Municipal El Turó.
URI:https://www.llagosta.cat/actualitat/noticies/la-llagosta-celebrara-dema-el-carnaval-amb-una-festa-al-complex-esportiu-el-turo-.html
CLASS:PUBLIC
END:VEVENT
END:VCALENDAR
