BEGIN:VCALENDAR
VERSION:2.0
CALSCALE:GREGORIAN
PRODID:-//Diputació de Barcelona//DibaCMS//EN
BEGIN:VEVENT
UID:4793
DTSTAMP:20260422T040512
DTSTART:20120217T000000
DTEND:20130217T000000
SUMMARY:Cap de setmana de descans per als equips de futbol i futbol sala
LOCATION:
METHOD:PUBLISH
X-WR-CALNAME:llagosta@llagosta.cat
X-WR-TIMEZONE:Europe/Madrid
DESCRIPTION:Aquest cap de setmana, hi haurà jornada de descans per als equips de futbol i futbol sala de la nostra localitat. És el cas del Viejas Glorias, en futbol de veterans; de la Unión Llagostense, en futbol sala masculí; i dels dos equips de futbol sala femení del Club Deportivo La Concòrdia. 
URI:https://www.llagosta.cat/actualitat/noticies/cap-de-setmana-de-descans-per-als-equips-de-futbol-i-futbol-sala.html
CLASS:PUBLIC
END:VEVENT
END:VCALENDAR
