BEGIN:VCALENDAR
VERSION:2.0
CALSCALE:GREGORIAN
PRODID:-//Diputació de Barcelona//DibaCMS//EN
BEGIN:VEVENT
UID:4792
DTSTAMP:20260422T182231
DTSTART:20120217T000000
DTEND:20130217T000000
SUMMARY:L'Institut Marina va acollir ahir una xerrada sobre internet segura adreçada a pares i mares
LOCATION:
METHOD:PUBLISH
X-WR-CALNAME:llagosta@llagosta.cat
X-WR-TIMEZONE:Europe/Madrid
DESCRIPTION:Una trentena de persones van assistir ahir per la tarda a la xerrada sobre internet segura, que va organitzar l'Escola de Pares i Mares de la Llagosta. La conferència, amb el títol Internet segura. Com protegeixo als meus fills i filles dels riscos davant l'ordinador, va anar a càrrec dels Mossos d'Esquadra i va tenir lloc a la sala Àgora de l'Institut Marina.
URI:https://www.llagosta.cat/actualitat/noticies/linstitut-marina-va-acollir-ahir-una-xerrada-sobre-internet-segura-adrecada-a-pares-i-mares.html
CLASS:PUBLIC
END:VEVENT
END:VCALENDAR
