BEGIN:VCALENDAR
VERSION:2.0
CALSCALE:GREGORIAN
PRODID:-//Diputació de Barcelona//DibaCMS//EN
BEGIN:VEVENT
UID:4791
DTSTAMP:20260422T150237
DTSTART:20120216T000000
DTEND:20130216T000000
SUMMARY:El sènior A de l'Esportiu Bàsquet Club fa un bon partit però perd a Martorelles (67-50)
LOCATION:
METHOD:PUBLISH
X-WR-CALNAME:llagosta@llagosta.cat
X-WR-TIMEZONE:Europe/Madrid
DESCRIPTION:El sènior masculí A de l'Esportiu Bàsquet Club de la Llagosta va perdre la jornada a la pista del tercer classificat, el Martorelles, per 67 a 50. Els llagostencs van fer un bon partit. A falta de sis minuts per al final, hi havia molta igualtat al marcador, però el Martorelles es va acabar imposant.
URI:https://www.llagosta.cat/actualitat/noticies/el-senior-a-de-lesportiu-basquet-club-fa-un-bon-partit-pero-perd-a-martorelles-67-50.html
CLASS:PUBLIC
END:VEVENT
END:VCALENDAR
