BEGIN:VCALENDAR
VERSION:2.0
CALSCALE:GREGORIAN
PRODID:-//Diputació de Barcelona//DibaCMS//EN
BEGIN:VEVENT
UID:4790
DTSTAMP:20260422T125423
DTSTART:20120216T000000
DTEND:20130216T000000
SUMMARY:Els dos equips de futbol sala femení del CD La Concòrdia van guanyar la jornada passada
LOCATION:
METHOD:PUBLISH
X-WR-CALNAME:llagosta@llagosta.cat
X-WR-TIMEZONE:Europe/Madrid
DESCRIPTION:El primer equip del Club Deportivo La Concòrdia va sumar la jornada passada una nova victòria en imposar-se per 7 a 1 al Capellades. El partit va ser de clar domini local. 
URI:https://www.llagosta.cat/actualitat/noticies/14-04-2015-els-dos-equips-de-futbol-sala-femeni-del-cd-la-concordia-van-guanyar-la-jornada-passada.html
CLASS:PUBLIC
END:VEVENT
END:VCALENDAR
