BEGIN:VCALENDAR
VERSION:2.0
CALSCALE:GREGORIAN
PRODID:-//Diputació de Barcelona//DibaCMS//EN
BEGIN:VEVENT
UID:4789
DTSTAMP:20260421T223458
DTSTART:20120216T000000
DTEND:20130216T000000
SUMMARY:El Carnaval infantil se celebrarà demà per la tarda a la Llagosta
LOCATION:
METHOD:PUBLISH
X-WR-CALNAME:llagosta@llagosta.cat
X-WR-TIMEZONE:Europe/Madrid
DESCRIPTION:Demà, se celebrarà a la Llagosta la festa de Carnaval infantil. Aquest any, es farà novament una rua preparada especialment per als nens i nenes de la Llagosta. La rua sortirà en aquesta ocasió de la plaça d'Antoni Baqué a les cinc de la tarda. 
URI:https://www.llagosta.cat/actualitat/noticies/el-carnaval-infantil-se-celebrara-dema-per-la-tarda-a-la-llagosta.html
CLASS:PUBLIC
END:VEVENT
END:VCALENDAR
