BEGIN:VCALENDAR
VERSION:2.0
CALSCALE:GREGORIAN
PRODID:-//Diputació de Barcelona//DibaCMS//EN
BEGIN:VEVENT
UID:4786
DTSTAMP:20260422T070543
DTSTART:20120215T000000
DTEND:20130215T000000
SUMMARY:L'alcalde defensa la professionalitat de la plantilla municipal i l'Ajuntament
LOCATION:
METHOD:PUBLISH
X-WR-CALNAME:llagosta@llagosta.cat
X-WR-TIMEZONE:Europe/Madrid
DESCRIPTION:L'alcalde de la Llagosta, Alberto López, ha signat avui una declaració institucional en defensa de la professionalitat de la plantilla municipal i de l'Ajuntament. López ha justificat aquesta actuació per algunes manifestacions polítiques sobre el decret d'arxiu de la Fiscalia del Tribunal Superior de Justícia de Catalunya en relació al cas de l'ARE de les Planes 2.
URI:https://www.llagosta.cat/actualitat/noticies/lalcalde-defensa-la-professionalitat-de-la-plantilla-municipal-i-lajuntament.html
CLASS:PUBLIC
END:VEVENT
END:VCALENDAR
