BEGIN:VCALENDAR
VERSION:2.0
CALSCALE:GREGORIAN
PRODID:-//Diputació de Barcelona//DibaCMS//EN
BEGIN:VEVENT
UID:4785
DTSTAMP:20260422T123253
DTSTART:20120215T000000
DTEND:20130215T000000
SUMMARY:Un campionat i un subcampionat de Catalunya benjamí per al Gimnàs La Llagosta
LOCATION:
METHOD:PUBLISH
X-WR-CALNAME:llagosta@llagosta.cat
X-WR-TIMEZONE:Europe/Madrid
DESCRIPTION:Naiara González, del Club de Judo del Gimnàs La Llagosta, es va proclamar diumenge campiona de Catalunya benjamí, mentre que Asier Gil, també membre del club llagostenc, va ser segon en la categoria masculina. 
URI:https://www.llagosta.cat/actualitat/noticies/un-campionat-i-un-subcampionat-de-catalunya-benjami-per-al-gimnas-la-llagosta.html
CLASS:PUBLIC
END:VEVENT
END:VCALENDAR
