BEGIN:VCALENDAR
VERSION:2.0
CALSCALE:GREGORIAN
PRODID:-//Diputació de Barcelona//DibaCMS//EN
BEGIN:VEVENT
UID:4784
DTSTAMP:20260421T202309
DTSTART:20120215T000000
DTEND:20130215T000000
SUMMARY:El FS Unión Llagostense goleja el Cardedeu (3-13) i suma el segon triomf seguit
LOCATION:
METHOD:PUBLISH
X-WR-CALNAME:llagosta@llagosta.cat
X-WR-TIMEZONE:Europe/Madrid
DESCRIPTION:El Fútbol Sala Unión Llagostense va guanyar la jornada passada per 3 a 13 a la pista del Cardedeu. Els llagostencs, encara que tenien diverses baixes, van ser molt superiors al seu rival. 
URI:https://www.llagosta.cat/actualitat/noticies/el-fs-union-llagostense-goleja-el-cardedeu-3-13-i-suma-el-segon-triomf-seguit.html
CLASS:PUBLIC
END:VEVENT
END:VCALENDAR
