BEGIN:VCALENDAR
VERSION:2.0
CALSCALE:GREGORIAN
PRODID:-//Diputació de Barcelona//DibaCMS//EN
BEGIN:VEVENT
UID:4782
DTSTAMP:20260421T185139
DTSTART:20120215T000000
DTEND:20130215T000000
SUMMARY:El PSC demana als veïns que participin en les manifestacions contra la reforma laboral
LOCATION:
METHOD:PUBLISH
X-WR-CALNAME:llagosta@llagosta.cat
X-WR-TIMEZONE:Europe/Madrid
DESCRIPTION:El Partit dels Socialistes de la Llagosta ha fet públic un comunicat en el qual crida als veïns de la nostra localitat a participar a les manifestacions que hi ha convocades per al proper diumenge en contra de la reforma laboral. 
URI:https://www.llagosta.cat/actualitat/noticies/el-psc-demana-als-veins-que-participin-en-les-manifestacions-contra-la-reforma-laboral.html
CLASS:PUBLIC
END:VEVENT
END:VCALENDAR
