BEGIN:VCALENDAR
VERSION:2.0
CALSCALE:GREGORIAN
PRODID:-//Diputació de Barcelona//DibaCMS//EN
BEGIN:VEVENT
UID:4781
DTSTAMP:20260422T015432
DTSTART:20120214T000000
DTEND:20130214T000000
SUMMARY:L'Ajuntament instal·larà cinc minideixalleries per facilitar el reciclatge de residus
LOCATION:
METHOD:PUBLISH
X-WR-CALNAME:llagosta@llagosta.cat
X-WR-TIMEZONE:Europe/Madrid
DESCRIPTION:L'Ajuntament de la Llagosta instal·larà en cinc punts del nucli urbà minideixalleries. Aquests contenidors permetran recollir, de forma selectiva per al seu posterior reciclatge, residus com ara piles, discos compactes, DVD, bateries de mòbils, petits aparells electrònics, carregadors de bateries, cartutxos d'impressora i bombetes.
URI:https://www.llagosta.cat/actualitat/noticies/lajuntament-installara-cinc-minideixalleries-per-facilitar-el-reciclatge-de-residus.html
CLASS:PUBLIC
END:VEVENT
END:VCALENDAR
