BEGIN:VCALENDAR
VERSION:2.0
CALSCALE:GREGORIAN
PRODID:-//Diputació de Barcelona//DibaCMS//EN
BEGIN:VEVENT
UID:4780
DTSTAMP:20260421T125501
DTSTART:20120214T000000
DTEND:20130214T000000
SUMMARY:Mans Unides demana ajuda per a la construcció d'un institut a Serra Lleona
LOCATION:
METHOD:PUBLISH
X-WR-CALNAME:llagosta@llagosta.cat
X-WR-TIMEZONE:Europe/Madrid
DESCRIPTION:Mans Unides al Vallès Oriental posarà en marxa diumenge la campanya solidària d'aquest any 2012. El projecte d'enguany farà possible la construcció d'un institut a Serra Lleona, concretament a la ciutat de Bo, la segona més important del país després de la capital, Freetown.
URI:https://www.llagosta.cat/actualitat/noticies/mans-unides-demana-ajuda-per-a-la-construccio-dun-institut-a-serra-lleona.html
CLASS:PUBLIC
END:VEVENT
END:VCALENDAR
