BEGIN:VCALENDAR
VERSION:2.0
CALSCALE:GREGORIAN
PRODID:-//Diputació de Barcelona//DibaCMS//EN
BEGIN:VEVENT
UID:4778
DTSTAMP:20260421T120532
DTSTART:20120214T000000
DTEND:20130215T000000
SUMMARY:Un Viejas Glorias amb moltes baixes cau golejat al camp de la Romànica (5-0)
LOCATION:
METHOD:PUBLISH
X-WR-CALNAME:llagosta@llagosta.cat
X-WR-TIMEZONE:Europe/Madrid
DESCRIPTION:El Club Deportivo Viejas Glorias va perdre la jornada passada al camp de la Romànica per un contundent 5 a 0. El conjunt llagostenc va afrontar el partit amb onze baixes i va ser clarament inferior al seu rival. 
URI:https://www.llagosta.cat/actualitat/noticies/un-viejas-glorias-amb-moltes-baixes-cau-golejat-al-camp-de-la-romanica-5-0.html
CLASS:PUBLIC
END:VEVENT
END:VCALENDAR
