BEGIN:VCALENDAR
VERSION:2.0
CALSCALE:GREGORIAN
PRODID:-//Diputació de Barcelona//DibaCMS//EN
BEGIN:VEVENT
UID:4777
DTSTAMP:20260421T160336
DTSTART:20120213T000000
DTEND:20130213T000000
SUMMARY:Can Pelegrí acull fins al 24 de febrer una exposició sobre les dones i el premi Nobel
LOCATION:
METHOD:PUBLISH
X-WR-CALNAME:llagosta@llagosta.cat
X-WR-TIMEZONE:Europe/Madrid
DESCRIPTION:El Centre Cultural i Juvenil Can Pelegrí acull l'exposició Les dones i els Nobels, presència i absències de les dones en els premis Nobel. La mostra es podrà visitar en horari de tarda fins al 24 de febrer.
URI:https://www.llagosta.cat/actualitat/noticies/can-pelegri-acull-fins-al-24-de-febrer-una-exposicio-sobre-les-dones-i-el-premi-nobel.html
CLASS:PUBLIC
END:VEVENT
END:VCALENDAR
