BEGIN:VCALENDAR
VERSION:2.0
CALSCALE:GREGORIAN
PRODID:-//Diputació de Barcelona//DibaCMS//EN
BEGIN:VEVENT
UID:4776
DTSTAMP:20260421T141455
DTSTART:20120213T000000
DTEND:20130213T000000
SUMMARY:Obert un nou període de matriculació a l'Oficina de Català de la Llagosta
LOCATION:
METHOD:PUBLISH
X-WR-CALNAME:llagosta@llagosta.cat
X-WR-TIMEZONE:Europe/Madrid
DESCRIPTION:L'Oficina de Català de la Llagosta ja ha iniciat el període de matriculacions als diferents cursos presencials i a distància per a adults. Aquesta setmana es realitzen les inscripcions per al segon quadrimestre del curs.
URI:https://www.llagosta.cat/actualitat/noticies/obert-un-nou-periode-de-matriculacio-a-loficina-de-catala-de-la-llagosta.html
CLASS:PUBLIC
END:VEVENT
END:VCALENDAR
