BEGIN:VCALENDAR
VERSION:2.0
CALSCALE:GREGORIAN
PRODID:-//Diputació de Barcelona//DibaCMS//EN
BEGIN:VEVENT
UID:4775
DTSTAMP:20260422T074246
DTSTART:20120213T000000
DTEND:20130213T000000
SUMMARY:Demà, darrer dia per apuntar-se al Concurs de disfresses de Carnaval
LOCATION:
METHOD:PUBLISH
X-WR-CALNAME:llagosta@llagosta.cat
X-WR-TIMEZONE:Europe/Madrid
DESCRIPTION:Demà dimarts, dia 14 de febrer, acaba el període d'inscripcions per participar en el concurs de disfresses que organitzarà dissabte l'Ajuntament de la Llagosta durant la festa de Carnestoltes. Els interessats s'han d'adreçar a l'Oficina d'Atenció a la Ciutadania, que des d'avui està situada a l'Ajuntament, demà, de quatre a vuit de la tarda.
URI:https://www.llagosta.cat/actualitat/noticies/dema-darrer-dia-per-apuntar-se-al-concurs-de-disfresses-de-carnaval.html
CLASS:PUBLIC
END:VEVENT
END:VCALENDAR
