BEGIN:VCALENDAR
VERSION:2.0
CALSCALE:GREGORIAN
PRODID:-//Diputació de Barcelona//DibaCMS//EN
BEGIN:VEVENT
UID:4774
DTSTAMP:20260421T190846
DTSTART:20120213T000000
DTEND:20130213T000000
SUMMARY:La Policia Local de la Llagosta farà aquesta setmana controls d'alcoholèmia
LOCATION:
METHOD:PUBLISH
X-WR-CALNAME:llagosta@llagosta.cat
X-WR-TIMEZONE:Europe/Madrid
DESCRIPTION:La Policia Local de la Llagosta s'afegeix a la nova campanya de controls d'alcoholèmia que fa des d'avui i fins al 19 de febrer el Servei Català de Trànsit arreu de Catalunya. Els agents locals faran a la Llagosta controls puntuals a diferents hores i llocs del nucli urbà.
URI:https://www.llagosta.cat/actualitat/noticies/la-policia-local-de-la-llagosta-fara-aquesta-setmana-controls-dalcoholemia.html
CLASS:PUBLIC
END:VEVENT
END:VCALENDAR
