BEGIN:VCALENDAR
VERSION:2.0
CALSCALE:GREGORIAN
PRODID:-//Diputació de Barcelona//DibaCMS//EN
BEGIN:VEVENT
UID:4773
DTSTAMP:20260421T125342
DTSTART:20120213T000000
DTEND:20130213T000000
SUMMARY:Des d'avui, l'Oficina d'Atenció a la Ciutadania està situada a l'edifici de l'Ajuntament
LOCATION:
METHOD:PUBLISH
X-WR-CALNAME:llagosta@llagosta.cat
X-WR-TIMEZONE:Europe/Madrid
DESCRIPTION:L'Oficina d'Atenció a la Ciutadania (OAC) ha obert aquest matí les portes a la seva nova ubicació, a la planta baixa l'edifici de l'Ajuntament, situat a la plaça d'Antoni Baqué. L'horari d'atenció al públic de l'OAC és de dilluns a divendres de les 8.30 a les 14 hores i per les tardes s'obrirà els dimarts i dijous de les 16 a les 20 hores. 
URI:https://www.llagosta.cat/actualitat/noticies/des-davui-loficina-datencio-a-la-ciutadania-esta-situada-a-ledifici-de-lajuntament.html
CLASS:PUBLIC
END:VEVENT
END:VCALENDAR
