BEGIN:VCALENDAR
VERSION:2.0
CALSCALE:GREGORIAN
PRODID:-//Diputació de Barcelona//DibaCMS//EN
BEGIN:VEVENT
UID:4772
DTSTAMP:20260421T102834
DTSTART:20120213T000000
DTEND:20130213T000000
SUMMARY:L'equip amateur del Club Esportiu La Llagosta es retira de la competició per falta de jugadors
LOCATION:
METHOD:PUBLISH
X-WR-CALNAME:llagosta@llagosta.cat
X-WR-TIMEZONE:Europe/Madrid
DESCRIPTION:La junta directiva del Club Esportiu La Llagosta ha decidit retirar de la competició el conjunt amateur, ja que no comptava amb suficients efectius per acabar la temporada. L'equip ja no va jugar el cap de setmana a les Franqueses. 
URI:https://www.llagosta.cat/actualitat/noticies/lequip-amateur-del-club-esportiu-la-llagosta-es-retira-de-la-competicio-per-falta-de-jugadors.html
CLASS:PUBLIC
END:VEVENT
END:VCALENDAR
